BEGIN:VCALENDAR
VERSION:2.0
PRODID:-//wp-events-plugin.com//7.2.3.1//EN
BEGIN:VEVENT
UID:1194@photorokaj.com
DTSTART;TZID=Europe/Zagreb:20260523T200000
DTEND;TZID=Europe/Zagreb:20260523T230000
DTSTAMP:20251231T133218Z
URL:https://photorokaj.com/events/s-a-r-s-slavi-20-godina-velikim-koncerto
 m-u-zagrebu/
SUMMARY:S.A.R.S. SLAVI 20 GODINA VELIKIM KONCERTOM U ZAGREBU
DESCRIPTION:\n\nS.A.R.S. 23.5.2026. BOĆARSKI DOM\n\n\n\n\n\nJedan od najut
 jecajnijih i najpopularnijih regionalnih bendova\, S.A.R.S.\, vraća se u 
 Zagreb kako bi s publikom proslavio 20 godina postojanja i djelovanja bend
 a!\n\n\n\n\n\nObljetnički koncert održat će se u subotu\, 23. svibnja 2
 026.\, u Boćarskom domu\, gdje će se još jednom okupiti obožavatelji s
 vih generacija.\n\n\n\n\n\nOd svojih prvih nastupa\, S.A.R.S. je izgradio 
 snažnu vezu sa zagrebačkom publikom\, a njihovi koncerti u metropoli red
 ovito su rasprodani i obilježeni atmosferom zajedničkog pjevanja i nepat
 vorene koncertne euforije. U Boćarskom nas očekuje presjek karijere i za
 hvalnica publici koja ih vjerno prati već dva desetljeća.\n\n\n\n\n\n„
 Lutka“\n\n\n\n\n\nDo danas su objavili sedam  studijskih i jedan live a
 lbum\, koji su obilježili regionalnu glazbenu scenu. Njihove pjesme poput
  „Lutke“\, „Perspektive“\, „Klinke“ ili pak „Buđavog lebca
 “\, postale su generacijski hitovi\, a specifičan spoj rocka\, reggaea\
 , hip-hopa i popa učinio ih je jedinstvenim fenomenom na ovim prostorima.
 \n\n\n\n\n\n„Buđav lebac“\n\n\n\n\n\nZagrebački koncert bit će pril
 ika da publika uživo čuje omiljene pjesme\, ali i da zajedno s bendom pr
 oslavi 20 godina glazbe\, slobode i međusobne iskrene povezanosti.\n\n\n\
 n\n\nBoćarski dom 23. svibnja 2026. postaje mjesto velikog slavlja koje n
 e želiš propustiti!\n\n\n\n\n\nSvoju ulaznicu osiguraj na vrijeme putem 
 Entrio sustava po cijeni od : early bird (do 10.siječnja) - 20\,00 eura\,
  regular 25\,00 eura te na dan koncerta po cijeni od 30\,00 eura.\n\n\n\n\
 n\nLink na ulaznice : https://www.entrio.hr/event/sars-20-godina-29223\n\n
 \n\n\n
ATTACH;FMTTYPE=image/jpeg:https://photorokaj.com/wp-content/uploads/2025/1
 2/S.A.R.S.-23_05_26-_res89.jpg
LOCATION:Boćarski dom Zrinjevac\, Prisavlje 2\, Zagreb\, Croatia\, 10000\,
  Hrvatska
X-APPLE-STRUCTURED-LOCATION;VALUE=URI;X-ADDRESS=Prisavlje 2\, Zagreb\, Croa
 tia\, 10000\, Hrvatska;X-APPLE-RADIUS=100;X-TITLE=Boćarski dom Zrinjevac:
 geo:0,0
END:VEVENT
BEGIN:VTIMEZONE
TZID:Europe/Zagreb
X-LIC-LOCATION:Europe/Zagreb
BEGIN:DAYLIGHT
DTSTART:20260329T030000
TZOFFSETFROM:+0100
TZOFFSETTO:+0200
TZNAME:CEST
END:DAYLIGHT
END:VTIMEZONE
END:VCALENDAR