BEGIN:VCALENDAR
VERSION:2.0
PRODID:-//wp-events-plugin.com//7.2.3.1//EN
BEGIN:VEVENT
UID:584@photorokaj.com
DTSTART;TZID=Europe/Zagreb:20250502T200000
DTEND;TZID=Europe/Zagreb:20250503T230000
DTSTAMP:20250429T182403Z
URL:https://photorokaj.com/events/se15-bis-za-kraj/
SUMMARY:SE15: BIS ZA KRAJ
DESCRIPTION:\n\nPovodom velikih 15 godina tradicionalnih šibenskih projeka
 ta Kulturaljka i Regius\, šibenski PARK kolektiv organizira dvodnevni gla
 zbeni program u samom srcu Šibenika – i najavljuje svoj posljednji konc
 ertni događaj.\n\n \n\nU dvije večeri pod vedrim nebom\, na pozornici ć
 e se izmijeniti šest bendova koji savršeno spajaju glazbenu prošlost\, 
 sadašnjost i budućnost – od legendarnih imena do novih snaga domaće s
 cene.\n\n \n\nPETAK\, 2.5.\nPremijerni nastup makarskih Rezervi\, povratak
  Daleke Obale u novoj postavi s Jakšom i Hrepom i legendarni Denis &amp\;
  Denis koji slave 40 godina albuma Ja sam lažljiva.\n\n \n\nSUBOTA\, 3.5.
 \nMiljenici šibenske publike M.O.R.T.\, energični Ogenj – favoriti pub
 like s Dore i svježa punk snaga Savršenih Marginalaca\, predvođenih biv
 šim članovima Hladnog piva.\n\n \n\nUlaznice su u prodaji putem Entrio s
 ustava i na svim Entrio prodajnim mjestima.\n\n \n\nDođite\, zabavite se 
 i zatvorite jedno glazbeno poglavlje zajedno s nama.\n\n
ATTACH;FMTTYPE=image/jpeg:https://photorokaj.com/wp-content/uploads/2025/0
 4/487512194_984453400531362_4987898057797629706_n-1.jpg
END:VEVENT
BEGIN:VTIMEZONE
TZID:Europe/Zagreb
X-LIC-LOCATION:Europe/Zagreb
BEGIN:DAYLIGHT
DTSTART:20250330T030000
TZOFFSETFROM:+0100
TZOFFSETTO:+0200
TZNAME:CEST
END:DAYLIGHT
END:VTIMEZONE
END:VCALENDAR