BEGIN:VCALENDAR
VERSION:2.0
PRODID:-//wp-events-plugin.com//7.2.3.1//EN
BEGIN:VEVENT
UID:934@photorokaj.com
DTSTART;TZID=Europe/Zagreb:20260716T200000
DTEND;TZID=Europe/Zagreb:20260719T234500
DTSTAMP:20250906T104854Z
URL:https://photorokaj.com/events/sea-sound-festival-imamo-vrijeme-i-mjest
 o-treceg-izdanja/
SUMMARY:Sea Sound Festival: Imamo vrijeme i mjesto trećeg izdanja
DESCRIPTION:\n\n\n\nFestival koji slavi sound system kulturu u svim njenim 
 oblicima i zvucima ide dalje\, treće izdanje Sea Sound Festivala zakaza
 no je 16. – 19. srpnja 2026. na Martinskoj u Šibeniku. Nakon prve 
 dvije godine\, nema stajanja\, Sea Sound svoj koncept njeguje i dalje 
 – glazba koja se čuje s ručno rađenih sound systema\, na pozornicama 
 u prirodi\, okruženima morem i pogledom na Šibenik. Raznovrsni koncerti\
 , live actovi\, DJ performansi\, MC izričaj\, najbolje od domaće\, regio
 nalne i europske scene. Posvećenost roots\, bass\, dub i svoj onoj glazbi
  koja najbolji zvuk postiže upravo iz moćnih sound system kutija.\n\nSea
  Sound pokrenut je 2023. godine\, a nastao je na temeljima Seasplash Fes
 tivala koji je u kontinuitetu kroz 21 godinu postojanja stvorio sasvim no
 vu scenu. Sea Sound nastavlja tim putem u novom ruhu\, ali s istom misijom
 .\n\nU ponedjeljak 8. rujna u prodaju se puštaju najpovoljnije ‘Blind
 ’ ulaznice\, ostanimo na vezi!\n\n\n\n\n\n\n
ATTACH;FMTTYPE=image/jpeg:https://photorokaj.com/wp-content/uploads/2025/0
 9/7ONlTbvedq2H.png
LOCATION:Martinska\, Martinska\, Šibenik\, Hrvatska
X-APPLE-STRUCTURED-LOCATION;VALUE=URI;X-ADDRESS=Martinska\, Šibenik\, Hrva
 tska;X-APPLE-RADIUS=100;X-TITLE=Martinska:geo:0,0
END:VEVENT
BEGIN:VTIMEZONE
TZID:Europe/Zagreb
X-LIC-LOCATION:Europe/Zagreb
BEGIN:DAYLIGHT
DTSTART:20260329T030000
TZOFFSETFROM:+0100
TZOFFSETTO:+0200
TZNAME:CEST
END:DAYLIGHT
END:VTIMEZONE
END:VCALENDAR