BEGIN:VCALENDAR
VERSION:2.0
PRODID:-//wp-events-plugin.com//7.2.3.1//EN
BEGIN:VEVENT
UID:1247@photorokaj.com
DTSTART;TZID=Europe/Zagreb:20260503T200000
DTEND;TZID=Europe/Zagreb:20260503T230000
DTSTAMP:20260129T171703Z
URL:https://photorokaj.com/events/sirenia-slavi-25-godina-benda-pocetkom-s
 vibnja-u-mocvari/
SUMMARY:Sirenia slavi 25 godina benda početkom svibnja u Močvari!
DESCRIPTION:\n\nNakon malo više od četiri godine Sirenia se vraća u Moč
 varu obilježiti četvrt stoljeća benda! Sjajni Norvežani više nego dob
 ro poznati zagrebačkoj publici\, a ljubitelji malo mračnijeg sympho meta
 la još jednom će doći na svoje\, pogotovo kad je u pitanju ovako lijep 
 povod. Uz najnoviji singl “Nightside Den” 3. svibnja odsvirat će i pr
 esjek bogate karijere s najvećim hitovima. Early bird ulaznice po cijeni 
 od 29 eura mogu se kupiti preko Hangtime weba. Pretprodajna cijena im je 3
 2 eura\, na dan će ako ih ostane koštati 35 eura. Fizičke ulaznice bit 
 će uskoro dostupne u Dirty Old Shopu. Link na prodaju: https://bit.ly/4bW
 eIDG\n\nSirenia je norveški gothic/symphonic metal bend iz Stavangera\, o
 snovan u siječnju 2001. godine. Spiritus movens cijele priče je Morten V
 eland\, gitarista\, vokal\, skladatelj i producent\, nakon njegova odlaska
  iz benda Tristania. Od samih početaka Sirenie je zamišljena kao autorsk
 i projekt s jasnom vizijom mračnog\, melankoličnog i atmosferičnog meta
 la u kojem se spajaju teške gitare\, bogate orkestracije\, zborovi\, žen
 ski vokali i grublji muški vokali\, uz povremene elektronske elemente. Pr
 votno ime projekta bilo je Masters of Sirenia\, inspirirano sirenama iz gr
 čke mitologije\, što se jasno odrazilo u lirici i općoj atmosferi glazb
 e.\n\n\n\n\n\n\n\n\n\nDebitantski album “At Sixes and Sevens” (2002.) 
 donio je kompleksan i snažno orkestriran gothic metal te se danas smatra 
 jednim od ključnih izdanja žanra. Sljedeći album “An Elixir for Exist
 ence” (2004.) dodatno je učvrstio status benda i definirao njihov prepo
 znatljiv mračni i emotivni izraz. Kroz godine Sirenia je postala poznata 
 po čestim promjenama ženskih vokala\, među kojima su se istaknule Henri
 ette Bordvik\, Monika Pedersen i Ailyn\, pri čemu je svaka donijela druga
 čiju dinamiku i karakter zvuku benda. Album “Nine Destinies and a Downf
 all” (2007.) označio je melodičniji i pristupačniji zaokret\, dok su 
 kasniji radovi nastavili balansirati između simfonijske raskoši i modern
 ijih metal utjecaja.\n\nU novijoj fazi benda na vokal dolazi Emmanuelle Zo
 ldan\, s kojom Sirenia objavljuje nekoliko zapaženih albuma i dodatno osv
 ježava svoj zvuk. Lirski\, bend se kontinuirano bavi introspektivnim tema
 ma poput egzistencijalne tuge\, unutarnjih konflikata\, depresije i duhovn
 og traganja. Unatoč brojnim promjenama postave\, Sirenia je zadržala sna
 žan i prepoznatljiv identitet zahvaljujući Velandovoj dosljednoj autorsk
 oj viziji te ostaje jedno od najdugovječnijih i najutjecajnijih imena got
 hic metal scene\, poznato i po snažnim\, emotivno nabijenim koncertnim na
 stupima diljem Europe i svijeta\, a hrvatska publika to itekako dobro zna.
  Dan nakon bend će nastupiti u beogradskoj Zappa Barci\, također u organ
 izaciji Hangtimea.\nVidimo se 3. svibnja u Močvari\, osigurajte svoje ula
 znice na vrijeme!\n\n\n\n\n\nFB: https://www.facebook.com/sirenia\nYT: htt
 ps://www.youtube.com/watch?v=hYJK3fn_7xk\nIG: https://www.instagram.com/si
 reniabandofficial/\nSP: https://open.spotify.com/artist/5FXMcILCOMjljRTV6c
 LoiE\n\nFb event: https://www.facebook.com/events/1218144566443651
ATTACH;FMTTYPE=image/jpeg:https://photorokaj.com/wp-content/uploads/2026/0
 1/Vizual-2-1.jpeg
LOCATION:Klub Močvara\, Trnjanska struga 34\,\, Zagreb\, Hrvatska\, 10000\
 , Hrvatska
X-APPLE-STRUCTURED-LOCATION;VALUE=URI;X-ADDRESS=Trnjanska struga 34\,\, Zag
 reb\, Hrvatska\, 10000\, Hrvatska;X-APPLE-RADIUS=100;X-TITLE=Klub Močvara
 :geo:0,0
END:VEVENT
BEGIN:VTIMEZONE
TZID:Europe/Zagreb
X-LIC-LOCATION:Europe/Zagreb
BEGIN:DAYLIGHT
DTSTART:20260329T030000
TZOFFSETFROM:+0100
TZOFFSETTO:+0200
TZNAME:CEST
END:DAYLIGHT
END:VTIMEZONE
END:VCALENDAR