BEGIN:VCALENDAR
VERSION:2.0
PRODID:-//wp-events-plugin.com//7.2.3.1//EN
BEGIN:VEVENT
UID:1260@photorokaj.com
DTSTART;TZID=Europe/Zagreb:20260609T190000
DTEND;TZID=Europe/Zagreb:20260609T230000
DTSTAMP:20260205T172216Z
URL:https://photorokaj.com/events/six-feet-under-embryonic-autopsy-u-zagre
 bu/
SUMMARY:SIX FEET UNDER + Embryonic Autopsy u Zagrebu!
DESCRIPTION:\n\nSix Feet Under jedan je od najdugovječnijih i najbeskompro
 misnijih bendova američke death metal scene. Bend je osnovao legendarni v
 okalist Chris Barnes (ex-Cannibal Corpse)\, a od sredine 1990-ih ostaje ne
 zaustavljiva snaga ekstremnog metala.\n\n \n\nU sklopu svoje European Tour
  2026\, Six Feet Under dolaze u Europu promovirajući aktualni album Killi
 ng for Revenge\, donoseći sirov\, agresivan i mračan death metal zvuk na
 stao kroz snažnu suradnju Barnesa i gitarista Jacka Owena (ex-Cannibal Co
 rpse).\n\n \n\nKao support Six Feet Under sa sobom dovode brutalne old sch
 ool death metalce Embryonic Autopsy.\n\n \n\nMjesto: Boogaloo\nDatum: 09. 
 lipnja 2026. Ulaz: 19:00\n\n \n\nPubliku očekuje iznimno intenzivan konce
 rt s novim pjesmama i klasicima iz bogate diskografije benda.\n\n \n\nLINE
 -UP:\n• Six Feet Under\n• Embryonic Autopsy\n+ guests\n\n \n\nUlaznice
 : Entrio i Eventim – 29€ early bird prvih 100 ulaznica!\nRegularna ula
 znica 34€\, na dan koncerta 38€.\n\n \n\n&nbsp\;\n\n
ATTACH;FMTTYPE=image/jpeg:https://photorokaj.com/wp-content/uploads/2026/0
 2/622368730_122203050842559300_7579998066770391185_n.jpg
END:VEVENT
BEGIN:VTIMEZONE
TZID:Europe/Zagreb
X-LIC-LOCATION:Europe/Zagreb
BEGIN:DAYLIGHT
DTSTART:20260329T030000
TZOFFSETFROM:+0100
TZOFFSETTO:+0200
TZNAME:CEST
END:DAYLIGHT
END:VTIMEZONE
END:VCALENDAR