BEGIN:VCALENDAR
VERSION:2.0
PRODID:-//wp-events-plugin.com//7.2.3.1//EN
BEGIN:VEVENT
UID:1227@photorokaj.com
DTSTART;TZID=Europe/Zagreb:20260720T200000
DTEND;TZID=Europe/Zagreb:20260720T234500
DTSTAMP:20260121T063100Z
URL:https://photorokaj.com/events/skunk-anansie-19-srpnja-na-tvrdavi-sv-mi
 hovila/
SUMMARY:Skunk Anansie 19. srpnja na Tvrđavi sv. Mihovila
DESCRIPTION:\n\nSkunk Anansie 19. srpnja na Tvrđavi sv. Mihovila – novo 
 veliko ime ljetne koncertne sezone u Šibeniku\n\n \n\nJedan od najutjecaj
 nijih alternativnih rock bendova posljednjih 30 godina\, Skunk Anansie\, n
 astupit će 19. srpnja na Tvrđavi sv. Mihovila\, potvrđujući Šibenik k
 ao jednu od najvažnijih ljetnih koncertnih destinacija u regiji.\n\n \n\n
 Osnovan u Londonu 1994. godine\, bend Skunk Anansie debitirao je na glazbe
 noj sceni moćnim singlom "Selling Jesus"\, a pažnju je odmah privukao sv
 ojom kombinacijom alternativne glazbe\, rocka i punka. Bili su tada prvi m
 ultikulturalni bend\, stihovi pjesama skretali su pažnju na socijalne i p
 olitičke teme\, a uz karizmatičnu vokalisticu Skin\, Skunk Anansie posta
 o je jedan od najvažnijih i najutjecajnijih bendova svog doba.\n\n \n\nTi
 jekom karijere izdali su niz hvaljenih albuma\, uključujući ''Paranoid &
 amp\; Sunburnt''\, ''Stoosh''\, ''Post Orgasmic Chill'' te ''25LIVE@2'' te
  hit singlove poput ''Hedonism (Just Because You Feel Good)''\, ''Selling 
 Jesus''\, ''Twisted (Everyday Hurts)'' i ''Weak''.\n\n \n\nNakon stanke po
 četkom 2000-ih\, bend se trijumfalno ponovno okupio 2009. godine te od ta
 da nastavlja objavljivati ​​nove albume i nastupati kao vodeći izvođ
 ači na festivalima diljem Europe\, a njihovi koncerti na svjetskim turnej
 ama redovito su rasprodani.\n\n \n\nPosljednji album ''The Painful Truth''
 \, objavljen u svibnju prošle godine\, pokazao je zašto je Skunk Anansie
  više od 30 godina nakon prvih nastupa i dalje jedan od najmoćnijih i na
 juzbudljivijih bendova na svijetu - kao glazbenici i kao izvođači uživo
 .\n\n \n\nMediji kao što su The Guardian ili Daily Telegraph redovito hva
 le njihove koncerte te naglašavaju kako Skunk Anansie ima konstantnu ošt
 rinu i neposrednost u glazbenom stvaralaštvu. Ističu kako je bend moćna
  ikona rocka\, uvijek vizualno i glazbeno svjež.\n\n \n\nUz već najavlje
 ne nastupe Joss Stone i Cheta Fakera\, novoj uzbudljivoj koncertnoj sezoni
  na jedinstvenoj pozornici Tvrđave sv. Mihovila\, gdje spoj glazbe i ambi
 jenta nudi neponovljivo iskustvo\, pridružuje se i Skunk Anansie.\n\n \n\
 nULAZNICE\n\n \n\nCijena ulaznice za koncert  Skunk Anansie iznosi   55
  eura\, a prvih 150 ulaznica s 10% popusta bit će dostupno u utorak\, 20.
  siječnja od 10 sati isključivo korisnicima Mastercard kartica u sustavu
  Eventim. Svi ostali ulaznice mogu kupiti od srijede\, 21. siječnja od 10
  sati i to u sustavu Eventim te na blagajni Kuće umjetnosti Arsen u Šibe
 niku. Članovi Kluba prijatelja šibenskih tvrđava ostvaruju popust od 15
 % na ulaznice kupljene u sustavu Eventim i na blagajni Kuće umjetnosti Ar
 sen.\n\n \n\nSkunk Anansie on 19 July at St. Michael’s Fortress – a ne
 w name of Šibenik’s summer concert season\n\n \n\nOne of the most influ
 ential alternative rock bands of the past 30 years\, Skunk Anansie\, will 
 perform on 19 July at St. Michael’s Fortress\, further confirming Šiben
 ik as one of the region’s most important summer concert destinations.\n\
 n \n\nFormed in London in 1994\, Skunk Anansie debuted on the music scene 
 with the powerful single “Selling Jesus”\, immediately attracting atte
 ntion with their blend of alternative music\, rock\, and punk. They were t
 he first multicultural band of the time\, their lyrics addressed social an
 d political themes\, and with their charismatic vocalist Skin\, Skunk Anan
 sie became one of the most important and influential bands of their era.\n
 \n \n\nThroughout their career\, they have released numerous acclaimed alb
 ums\, including Paranoid &amp\; Sunburnt\, Stoosh\, Post Orgasmic Chill an
 d 25LIVE@2\, as well as hit singles such as “Hedonism (Just Because You 
 Feel Good)”\, “Selling Jesus”\, “Twisted (Everyday Hurts)”\, and
  “Weak.”\n\n \n\nAfter a break in the early 2000s\, the band triumphan
 tly reunited in 2009 and has since continued to release new albums and per
 form as headliners at festivals across Europe. Their concerts on world tou
 rs are regularly sold out.\n\n \n\nTheir latest album\, “The Painful Tru
 th\,” released in May last year\, once again proved why Skunk Anansie 
 — more than 30 years after their first performances — remain one of th
 e most powerful and exciting bands in the world\, both as musicians and li
 ve performers.\n\n \n\nMedia outlets such as The Guardian and The Daily Te
 legraph consistently praise their concerts\, emphasizing that Skunk Anansi
 e maintain a constant sharpness and immediacy in their musical expression.
  They highlight the band as a powerful rock icon\, always visually and mus
 ically fresh.\n\n \n\nWith the already announced performances by Joss Ston
 e and Chet Faker\, Skunk Anansie joins the lineup of an exciting new conce
 rt season on the unique stage of St. Michael’s Fortress\, where the fusi
 on of music and ambience offers an unforgettable experience.\n\n \n\nTICKE
 TS\n\n \n\nThe ticket price for the Skunk Anansie concert is 55 euros\, an
 d the first 150 tickets with a 10% discount will be available on Tuesday\,
  20 January from 10 a.m.\, exclusively for Mastercard users via Eventim.\n
 \n \n\nAll other tickets can be purchased from Wednesday\, 21 January from
  10 a.m. via Eventim and at the box office of the House of Arts Arsen in 
 Šibenik.\n\n \n\nMembers of the Friends Club of Šibenik Fortresses recei
 ve a 15% discount on tickets purchased through Eventim and at the Arsen bo
 x office.\n\n\n\n
ATTACH;FMTTYPE=image/jpeg:https://photorokaj.com/wp-content/uploads/2026/0
 1/Skunk-Anansie-smanjena-scaled.jpg
LOCATION:Tvrđava sv. Mihovila\, Zagrađe 21\, Šibenik\, Hrvatska\, 22000\
 , Hrvatska
X-APPLE-STRUCTURED-LOCATION;VALUE=URI;X-ADDRESS=Zagrađe 21\, Šibenik\, Hr
 vatska\, 22000\, Hrvatska;X-APPLE-RADIUS=100;X-TITLE=Tvrđava sv. Mihovila
 :geo:0,0
END:VEVENT
BEGIN:VTIMEZONE
TZID:Europe/Zagreb
X-LIC-LOCATION:Europe/Zagreb
BEGIN:DAYLIGHT
DTSTART:20260329T030000
TZOFFSETFROM:+0100
TZOFFSETTO:+0200
TZNAME:CEST
END:DAYLIGHT
END:VTIMEZONE
END:VCALENDAR