BEGIN:VCALENDAR
VERSION:2.0
PRODID:-//wp-events-plugin.com//7.2.3.1//EN
BEGIN:VEVENT
UID:1201@photorokaj.com
DTSTART;TZID=Europe/Zagreb:20260430T200000
DTEND;TZID=Europe/Zagreb:20260430T230000
DTSTAMP:20260109T074256Z
URL:https://photorokaj.com/events/soad-tribute-chop-suey-i-slipknot-tribut
 e-slip-not-u-zagrebu-gosti-the-violent-inzident/
SUMMARY:SOAD tribute Chop Suey i Slipknot tribute Slip-Not u Zagrebu! Gosti
 : The Violent Inzident!
DESCRIPTION:Nakon fenomenalnog Forever NU festivala koji je ozbiljno podiga
 o ljestvicu tribute scene\, Chop Suey i Slip-NOT vraćaju se u Boogaloo ka
 ko bi još jednom priredili feštu za pamćenje. I teško da može drukči
 je kada se na jednom mjestu okupi toliko vrhunskih glazbenika s doslovno t
 isućama odsviranih koncerata. Ovog puta pridružuju im se i nu-metal majs
 tori parodije – The Violent Inzident\, koji će se premijerno predstavit
 i domaćoj publici. Očekujte neviđeni spektakl posvećen klasicima koji 
 su obilježili čitavu jednu generaciju\, a dodatni povod je 25 godina od 
 objavljivanja kultnih albuma “Toxicity” i “Iowa”. U planere i pame
 tne telefone za 2026. valja upisati datum: 30. travnja. Informacije o ulaz
 nicama – uskoro!\nCHOP SUEY čvrsto su etablirani kao najveći europski 
 tribute System of a Downu. Dolaze iz Velike Britanije\, iza sebe imaju vi
 še od desetljeća nemilosrdnog touranja\, a članovi benda uključuju gla
 zbenike iz Dragonforcea\, Anti-Nowhere Leaguea\, bivšeg Breed 77\, Tigert
 ailza i drugih. Zahvaljujući eksplozivnim i energičnim izvedbama klasika
  ovog armensko-američkog benda\, stekli su reputaciju diljem kontinenta. 
 S nevjerojatnom glazbenom preciznošću oživljavaju visceralnu scensku pr
 isutnost SOAD-a s početka 2000-ih\, zbog čega su postali nezaustavljiva 
 sila koju se ne propušta. U to se hrvatska publika već uvjerila.\nhttps:
 //www.facebook.com/voaduk\nSlip-NOT je relativno novi britanski all-star t
 ribute legendarnoj nu-metal grupi iz Iowe\, kojeg čine članovi benda Cho
 p Suey. Kao zanimljivost vrijedi istaknuti da je bubnjar Joyzi član benda
  Sinsaenum\, gdje je zamijenio ni manje ni više nego pokojnog i nikad pre
 žaljenog Joeyja Jordisona. Slip-NOT izvode brutalan\, nemilosrdan set sas
 tavljen od najagresivnijih i najpamtljivijih pjesama ranog Slipknota 2000-
 ih. Znate ono kad cijeli klub uglas pjeva “Left Behind”\, “Wait &amp
 \; Bleed”\, “People=Shit”\, “Eyeless” ili “Psychosocial”? Up
 ravo to možete očekivati i ovoga puta u Boogaloou!\nhttps://www.instagra
 m.com/slip_notuktribute/\nThe Violent Inzident jedinstveni su komedijaški
  projekt / bend / nešto između\, sastavljen od Tiny D-a\, C-mana i Bin m
 ana. Svoj žanr opisuju kao “post-core-sub-nu-metal”\, a kako i samo i
 me sugerira – neprestano se sprdaju sa stereotipima i klišejima žanra.
  Odmah upozoravaju da nisu za svačije uši\, posebno ne za moderne “pah
 uljice”. Jednostavno treba doći i vidjeti.\nhttps://www.youtube.com/wat
 ch?v=SFcnGsKU3Cg
ATTACH;FMTTYPE=image/jpeg:https://photorokaj.com/wp-content/uploads/2026/0
 1/ea32ec92-6d93-4591-b716-ec86896039e9.webp
LOCATION:Boogaloo\, Ulica grada Vukovara 68\, Zagreb\, Hrvatska\, 10000\, H
 rvatska
X-APPLE-STRUCTURED-LOCATION;VALUE=URI;X-ADDRESS=Ulica grada Vukovara 68\, Z
 agreb\, Hrvatska\, 10000\, Hrvatska;X-APPLE-RADIUS=100;X-TITLE=Boogaloo:ge
 o:0,0
END:VEVENT
BEGIN:VTIMEZONE
TZID:Europe/Zagreb
X-LIC-LOCATION:Europe/Zagreb
BEGIN:DAYLIGHT
DTSTART:20260329T030000
TZOFFSETFROM:+0100
TZOFFSETTO:+0200
TZNAME:CEST
END:DAYLIGHT
END:VTIMEZONE
END:VCALENDAR