BEGIN:VCALENDAR
VERSION:2.0
PRODID:-//wp-events-plugin.com//7.2.3.1//EN
BEGIN:VEVENT
UID:1274@photorokaj.com
DTSTART;TZID=Europe/Zagreb:20260424T200000
DTEND;TZID=Europe/Zagreb:20260424T234500
DTSTAMP:20260423T060418Z
URL:https://photorokaj.com/events/sound-system-rendezvous-vol-2-otkirven-o
 statak-izvodaca-uz-hempress-sativu/
SUMMARY:Sound System Rendezvous vol 2: Otkirven ostatak izvođača uz Hempr
 ess Sativu
DESCRIPTION:\nhttps://photorokaj.com/stigla-satnica-za-sound-system-rendezv
 ous-2-ovog-petka-hempress-sativa-nastupa-u-zagrebu/\n\n\n\nPremijerni nast
 up Hempress Sative u Hrvatskoj sve je bliže\, ova moćna vokalistica i MC
  nastupa na Sound System Rendezvous vol 2. gdje će joj se na pozornici pr
 idružiti Paolo Baldini DubFiles\, ovu glazbenu priču slušamo 24. travan
 ja 2026. u klubu Boogaloo u Zagrebu!\n\n\n\nSound System Rendezvous vol 2.
  otkriva i ostatak izvođača: AmpliFyah Music Crew\, Dubolik\, Systamatic
 \, DUBMX\, MMMeniga (Sea Sound Crew) svojim nastupom i selekcijama osigura
 t će da ni u jednom dijelu večeri ne bude tiho. Sve će se odvijati na S
 easplash Sound Systemu.\n\n\n\nHempress Sativa poznata je i pod nadimkom 
 “The Lyrical Machine”\, ova mašina za stihove osvaja svaku pozornicu 
 na kojoj se pojavi. Jedinstvena je po svom prepoznatljivom glasu i stihovi
 ma oštrim poput mača\, svojom dinamikom očarala je publiku diljem svije
 ta\, nametnuvši se kao stvarna sila u spoju reggaea i hip hopa. Rođena k
 ao Kerida Johnson u obitelji Rastafarija\, Hempress Sativa svoju umjetnost
  crpi iz duboko ukorijenjene svjesnosti\, otpora i snage. U Zagreb stiže 
 u kombinaciji s talijanskim umjetnikom Paolom Baldinijem DubFilesom!\n\n\n
 \nCijeli line up Sound System Rendezvous vol 2.\n\n\n\nAmpliFyah Music Cre
 w nastupa kao live dub &amp\; reggae sastav koji donosi grube riddime\, te
 ške bas linije i snažnu vokalnu sekciju koju predvode tri ženske pjeva
 čice — kombinaciju koja ih čini jedinstvenima na svjetskoj sceni. Kole
 ktiv ima sjedište u Zagrebu\, Hrvatska\, te je aktivan od 2023. godine\, 
 nastupajući diljem Europe kroz live dub mix nastupe i DJ setove. Dr. Obi 
 — producent / dub inženjer\; Anja G — vokal / autorica pjesama\; Roo 
 T — vokal / autorica pjesama / multiinstrumentalistica\; Sistah Tena —
  vokal / autorica pjesama.\n\n\n\nDubolik aka Jadranko Kereković\, glazbe
 ni put započeo je u hc punk bendu Radikalna promjena\, 2002. sudjeluje u 
 stvaranju Radikal Dub kolektiva\, kasnije s Vanjom pokreće projekt Dubble
 \, a uz to bavi se miksanjem i produkcijom glazbe.\n\n\n\nSea Sound Crew: 
 Systamatic\, DUBMX\, MMMeniga svojim dub selekcijama zaokružit će ovo do
 gađanje. Sea Sound Crew trio udružit će snage i za DJ pultom okupljene 
 rasplesati svojim zajedničkim nastupom.\n\n\n\nUlaznice Sound System Rend
 ezvous vol 2\n\n\n\nCijena ulaznica u pretprodaji je 25 eura\, na ulazu ć
 e koštati 30 eura. Ulaznice u pretprodaji dostupne su putem online i fizi
 čkih prodajnih servisa Stereoticket\,  Entrio i Core event.\n\n\n\nStere
 oticket: https://stereoticket.com/hr/dogadaj/693988639e5c409dfbef7877/\n\n
 \n\nEntrio: https://www.entrio.hr/event/sound-system-rendezvous-vol-2-2889
 0\n\n\n\nCore event: https://core-event.co/events/sound-system-rendezvous-
 vol-2-hempress-sativa-paolo-baldini-dubfiles-5d77/\n\n\n\n\n
ATTACH;FMTTYPE=image/jpeg:https://photorokaj.com/wp-content/uploads/2026/0
 2/FB_COVER_V2.png
LOCATION:Boogaloo\, Ulica grada Vukovara 68\, Zagreb\, Hrvatska\, 10000\, H
 rvatska
X-APPLE-STRUCTURED-LOCATION;VALUE=URI;X-ADDRESS=Ulica grada Vukovara 68\, Z
 agreb\, Hrvatska\, 10000\, Hrvatska;X-APPLE-RADIUS=100;X-TITLE=Boogaloo:ge
 o:0,0
END:VEVENT
BEGIN:VTIMEZONE
TZID:Europe/Zagreb
X-LIC-LOCATION:Europe/Zagreb
BEGIN:DAYLIGHT
DTSTART:20260329T030000
TZOFFSETFROM:+0100
TZOFFSETTO:+0200
TZNAME:CEST
END:DAYLIGHT
END:VTIMEZONE
END:VCALENDAR