BEGIN:VCALENDAR
VERSION:2.0
PRODID:-//wp-events-plugin.com//7.2.3.1//EN
BEGIN:VEVENT
UID:173@photorokaj.com
DTSTART:20241214T193000Z
DTEND:20241214T214500Z
DTSTAMP:20241212T191647Z
URL:https://photorokaj.com/events/stene-chuck-u-ally-mcbee/
SUMMARY:Štene Chuck u Ally McBee
DESCRIPTION:Štene Chuk je bend kojeg čine 8 članova\, a osim ljubavi pre
 ma glazbi\, svi redom su i veterinari. Dvije vokalistice\, tri gitare\, ba
 s\, bubanj i klavijature garantiraju dobro zabavu uz hitove novog vala na 
 kojima su mnogi od nas odrasli\, a neke od mlađih generacija ih otkrivaju
 . Bend će vas zabaviti i podsjetiti na one lijepe dane kada smo bili bezb
 rižni\, pa zašto ne iskorititi subotu u ugodnom ambijentu caffe bara All
 y Mc Bee u Vukovarskoj 284D u Zagrebu\, pjevati\, plesati i dobro se zabav
 iti? Koncert počinje u 21:30\, no\, preporuka je da dođete ranije kako b
 i si zauzeli mjesto koje želite.\n\nViše o bendu možete saznati i na nj
 ihovoj Facebook stranici :\n\nhttps://www.facebook.com/share/QaS3oXwQe78rD
 uTz\n\nfoto by: Zoran Juginović\n
ATTACH;FMTTYPE=image/jpeg:https://photorokaj.com/wp-content/uploads/2024/1
 2/thumbnail_image0.png
LOCATION:Ally Mc Bee\, Vukovarska 284D\, Zagreb\, 10000\, Hrvatska
X-APPLE-STRUCTURED-LOCATION;VALUE=URI;X-ADDRESS=Vukovarska 284D\, Zagreb\, 
 10000\, Hrvatska;X-APPLE-RADIUS=100;X-TITLE=Ally Mc Bee:geo:0,0
END:VEVENT
END:VCALENDAR