BEGIN:VCALENDAR
VERSION:2.0
PRODID:-//wp-events-plugin.com//7.2.3.1//EN
BEGIN:VEVENT
UID:999@photorokaj.com
DTSTART;TZID=Europe/Zagreb:20260617T200000
DTEND;TZID=Europe/Zagreb:20260617T230000
DTSTAMP:20251001T151900Z
URL:https://photorokaj.com/events/sting-se-vraca-u-zagreb-u-sklopu-svjetsk
 e-turneje-sting-3-0/
SUMMARY:STING SE VRAĆA U ZAGREB U SKLOPU SVJETSKE TURNEJE “STING 3.0”!
DESCRIPTION:\n\n 	\n\n 	LIPNJA 2026. U ARENI ZAGREB\n\n\n\n\n\n\n\n\n\nULAZ
 NICE SU U PRODAJI OD PETKA\, 3. LISTOPADA\nU SUSTAVU EVENTIMA\n\n\n\n\n\nZ
 agreb\, HR\, 29. rujna 2025. - Jedan od najuspješnijih glazbenika današn
 jice i dobitnik 17 nagrada Grammy\, Sting\, ponovno dolazi u Hrvatsku! U s
 klopu “STING 3.0” World Tour\, u organizaciji Live Nationa\, Cherrytre
 e Music Companyja i NuCoast Concertsa\, nastupit će u zagrebačkoj Areni 
 Zagreb 17. lipnja 2026. godine. Ulaznice su u prodaji od petka\, 3. listop
 ada\, u sustavu Eventima.\n\n\n\n\n\nUz virtuoza na gitari i dugogodišnje
 g suradnika Dominica Millera te dinamičnog bubnjara Chrisa Maasa\, publik
 a će imati priliku doživjeti Stinga u izvedbi njegovih najvećih hitova 
 i rijetko izvođenih pjesama iz bezvremenskog glazbenog opusa. Turneja “
 STING 3.0” je do sada zabilježila niz rasprodanih koncerata i prikupila
  iznimno pozitivne kritike. „Oakland Press“ je istaknuo da je riječ o
  večeri uz nastupe svjetske klase koja će se dugo pamtiti\, a „USA Tod
 ay“ je napisao kako Sting spaja karizmu\, intelekt i glazbenu profinjeno
 st. „Consequence“ je naglasio snagu njegova glasa i svrstao ga među n
 ajveće basiste svih vremena dok „The Atlanta Journal-Constitution“ hv
 ali njegovu scensku prisutnost i maestralni glazbeni zanat.\n\n\n\n\n\nPoz
 nat kao inovativni solo izvođač i autor te frontmen legendarne grupe The
  Police\, Sting je kroz cijelu svoju bogatu karijeru neprestano pomicao gr
 anice glazbene kreativnosti. Turneja “STING 3.0” predstavlja novo dina
 mično razdoblje u kojem izvodi odabrane pjesme iz svog glazbenog kataloga
  u pratnji tročlanog benda. Upravo je ta energija inspirirala i njegov no
 vi singl “I Wrote Your Name (Upon My Heart)”\, koji je aranžirao čet
 verostruki dobitnik Grammyja\, Robert Orton. Osim toga\, objavljen je i no
 vi live album „STING 3.0 LIVE“\, dostupan u digitalnom obliku\, na CD-
 u te na vinilu (180 g). Album\, snimljen na istoimenoj svjetskoj turneji\,
  donosi kolekciju Stingovih najvećih hitova\, uključujući i prvu live i
 zvedbu pjesme “Be Still My Beating Heart”. Digitalno izdanje sadrži u
 kupno deset pjesama uključujući i live verziju klasika “Fragile” iz 
 1987. koju je nedavno izveo dječji zbor u Netflixovoj mini-seriji „Adol
 escence“.\n\n\n\n\n\nČlanovi Stingovog Fan Cluba imat će mogućnost os
 igurati svoje ulaznice za zagrebački koncert prije početka generalne pro
 daje i to putem njegove službene stranice www.sting.com. Ulaznice za zagr
 ebački koncert u prodaji su od petka\, 3. listopada\, a može ih se osigu
 rati na svim prodajnima mjestima Eventima kao i putem online sustava www.e
 ventim.hr. Sve ostale informacije o turneji i Fan Clubu mogu se pronaći n
 a službenoj stranici www.sting.com te na Instagramu\, Tik Toku\, Facebook
 u\, Youtubeu i X-u.\n\n\n\n\n\nO STINGU: Tijekom svoje iznimne karijere i 
 kao član Rock and Roll Hall of Famea dobio je 17 nagrada Grammy te prodao
  više od 100 milijuna albuma diljem svijeta\, kako kao jedan od najprepoz
 natljivijih solo izvođača\, tako i kao bivši frontmen grupe The Police.
  Kao skladatelj\, kantautor\, pjevač\, glumac\, pisac i aktivist\, Sting 
 je i dobitnik nagrade Zlatni globus\, ima četiri nominacije za Oscara\, j
 ednu za nagradu Tony\, a nositelj je i Billboardove nagrade Century Award 
 te Kennedy Center Honors priznanja. Stingova podrška organizacijama koje 
 se bave ljudskim pravima\, poput Rainforest Funda\, Amnesty Internationala
  i Live Aida\, odražava univerzalnost njegove umjetnosti. Zajedno sa supr
 ugom Trudie Styler osnovao je 1989. godine Rainforest Fund s ciljem zašti
 te svjetskih prašuma i autohtonih zajednica koje u njima žive.\n\n\n\n\n
 \nO CHERRY TRREE MUSIC COMPANY: Osnovana 2005. godine od strane višestruk
 o platinastog\, za Grammy nominiranog kantautora i producenta Martina Kier
 szenbauma\, Cherrytree Music Company pruža usluge menadžmenta\, diskogra
 fske i izdavačke djelatnosti za odabrani krug izvođača\, producenata i 
 aranžera koji pomiču granice popularne glazbe. Tijekom 19 godina\, od sv
 og osnutka i objave prvog izdanja\, albuma “Let It Die” glazbenice Fei
 st\, Cherrytree je ostavio neizbrisiv trag na glazbenoj sceni: od menadžm
 enta slavnog glazbenika i kulturne ikone Stinga do lansiranja prva dva alb
 uma Lady Gage. Cherrytree Music Company također je izdao glazbeno i kultu
 rno značajna te komercijalno uspješna izdanja izvođača kao što su Ell
 ie Goulding\, La Roux\, Far East Movement i Robyn\, čiji je album “Body
  Talk” iz 2010. godine časopis Rolling Stone proglasio albumom desetlje
 ća. S više od 40 milijuna prodanih izdanja\, Cherrytree Music Company i 
 dalje je važan izvor popularne glazbe te pokretač umjetničkih suradnji 
 i inovacija. Za više informacija o Cherrytree Music Companyju posjetite s
 lužbenu Spotify stranicu\, a logotip je dostupan na linku.\n\n\n\n\n
ATTACH;FMTTYPE=image/jpeg:https://photorokaj.com/wp-content/uploads/2025/1
 0/1240-480.jpg
LOCATION:Arena Zagreb\, Lanište bb\, Zagreb\, Hrvatska\, 10000\, Hrvatska
X-APPLE-STRUCTURED-LOCATION;VALUE=URI;X-ADDRESS=Lanište bb\, Zagreb\, Hrva
 tska\, 10000\, Hrvatska;X-APPLE-RADIUS=100;X-TITLE=Arena Zagreb:geo:0,0
END:VEVENT
BEGIN:VTIMEZONE
TZID:Europe/Zagreb
X-LIC-LOCATION:Europe/Zagreb
BEGIN:DAYLIGHT
DTSTART:20260329T030000
TZOFFSETFROM:+0100
TZOFFSETTO:+0200
TZNAME:CEST
END:DAYLIGHT
END:VTIMEZONE
END:VCALENDAR