BEGIN:VCALENDAR
VERSION:2.0
PRODID:-//wp-events-plugin.com//7.2.3.1//EN
BEGIN:VEVENT
UID:1157@photorokaj.com
DTSTART;TZID=Europe/Zagreb:20260707T200000
DTEND;TZID=Europe/Zagreb:20260707T230000
DTSTAMP:20260403T074032Z
URL:https://photorokaj.com/events/supergrupa-beat-svira-albume-king-crimso
 na-iz-80-ih-premijerno-su-u-hrvatskoj/
SUMMARY:Supergrupa BEAT svira albume King Crimsona iz 80-ih\, premijerno su
  u Hrvatskoj
DESCRIPTION:\nŠRC Šalata\, Zagreb // utorak\, 7. srpnja 2026.\nhttps://ph
 otorokaj.com/danny-carey-steve-vai-andrew-belew-i-tony-levin-su-beat/\n\n\
 n\nZagreb\, 9. prosinca 2025. –Bivši članovi benda King Crimson\, Andr
 ew Belew i Tony Levin\, uz potporu gitarista Steve Vaija i bubnjara Toola 
 Dannyja Careyja osnovali su projekt BEAT\, a njihova interpretacija oživj
 et će tri kultna albuma 80-ih King Crimsona na zagrebačkom stadionu Šal
 ata u utorak 7. srpnja 2026.\n\n\n\nAlbumi “Discipline”\, “Beat” i
  “Three Of A Perfect Pair” dobit će jedinstvenu izvedbu u režiji gla
 zbenih velikana. BEAT kroz njihovu kreativnu interpretaciju donosi izvedbu
  sada već legendarnih izdanja King Crimsona iz 80-ih te benda koji je utj
 ecao na stvaranje progresivnog rocka. Po prvi put bend dolazi u Europu\, a
  velika turneja ih vodi od UK-a preko cijelog kontinenta\, kada i dolaze u
  Hrvatsku na jedini nastup u našim krajevima.\n\n\n\nBEAT – “Neal and
  Jack and Me” (Official Live Video)\n\n\n\nPostavu BEAT-a čine gitarist
  i pjevač Adrian Belew i basist Tony Levin\, koji su i stvarali albume Ki
 ng Crimsona 80-ih\, gitaristički virtuoz Steve Vai i bubnjar benda Tool D
 anny Carey. Osvrćući se na BEAT\, Adrian Belew kaže: “Od 1981. do 198
 4. King Crimson stvarali su bezvremensku\, odvažnu i kompleksnu glazbu. Z
 a sve koji su je doživjeli tada\, kao i one koji do sada nisu\, cilj nam 
 je ponovo ju oživjeti.” Tony Levin dodaje: “Ponovo ćemo izvoditi nek
 e od meni omiljenih pjesama u društvu ove zvjezdane postave.”\n\n\n\nDv
 ojac je regrutirao i sjajnu postavu koja će kao BEAT predstaviti tri albu
 ma King Crimsona. Steve Vai tako poručuje: “Privilegija je izvoditi bez
 vremensku i jednu od najznačanijih glazbi od 80-ih naovamo\, i to sa sjaj
 nim izvođačima.” Bubnjar Danny Carey dodaje da “nema boljeg od zapal
 iti iskru i izaći iz glazbene komfort zone uz moja tri omiljena glazbenik
 a”. Mediji hvale dosadašnje nastupe ritmičnu kompleksnost\, osjećaj j
 edinstvene izvedbe te nastup koji uz strukturu i donosi i improvizaciju\, 
 a sve je uhvaćeno i na albumu “BEAT LIVE” snimljenom na nastupu u Los
  Angelesu.\n\n\n\nBEAT – “Elephant Talk” (Official Live Video)\n\n\n
 \nKing Crimson je kroz glazbu koja spaja stariji i moderniji zvuk utjecao 
 na brojne žanrove i bendove. Uz elemente klasične\, jazz\, folk\, heavy 
 metal\, blues ili eksperimentalne glazbe\, bend je od osnivanja 1968. insp
 irirao rani pokret progresivnog rocka 70-ih\, te zaslužio kultni status. 
 Uz jedinog stalnog člana Roberta Frippa\, povremeni prekidi djelovanja do
 nijeli su nove postave\, a pjevač i gitarist Adrian Belew\, te basist Ton
 y Levin pridružili su se bendu na tri izdanja. King Crimson tako 1981. ob
 javljuju album “Discipline” koji postavlja temelje post progresivnog r
 ocka\, slijedi hvaljeni “Beat” iz 1982.\, a “Three Of A Perfect Pair
 ” iz 1984. zadnji je na kojem sudjeluju Belew i Levin. Kao supergrupa ko
 ja oživljava izdanja King Crimsona iz 80-ih\, BEAT donosi jedinstveno isk
 ustvo u impresivnoj postavi glazbenika. S velikim naglaskom na muziciranje
 \, bez ikakvih scenskih efekata i velike produkcije BEAT će na stadionu 
 Šalata nastupiti na koncertu s isključivo sjedećim mjestima. Ulaznice s
 u u prodaji od petka\, 12. prosinca 2025.\, u 10:00 sati kroz sustav CoreE
 vent.\n\n\n\n\n
ATTACH;FMTTYPE=image/jpeg:https://photorokaj.com/wp-content/uploads/2025/1
 2/titles_AlisonDyer-1-scaled.jpg
LOCATION:ŠRC Šalata\, Schlosserove Stube 2\, Zagreb\, Hrvatska\, 100000\,
  Hrvatska
X-APPLE-STRUCTURED-LOCATION;VALUE=URI;X-ADDRESS=Schlosserove Stube 2\, Zagr
 eb\, Hrvatska\, 100000\, Hrvatska;X-APPLE-RADIUS=100;X-TITLE=ŠRC Šalata:
 geo:0,0
END:VEVENT
BEGIN:VTIMEZONE
TZID:Europe/Zagreb
X-LIC-LOCATION:Europe/Zagreb
BEGIN:DAYLIGHT
DTSTART:20260329T030000
TZOFFSETFROM:+0100
TZOFFSETTO:+0200
TZNAME:CEST
END:DAYLIGHT
END:VTIMEZONE
END:VCALENDAR