BEGIN:VCALENDAR
VERSION:2.0
PRODID:-//wp-events-plugin.com//7.2.3.1//EN
BEGIN:VEVENT
UID:1104@photorokaj.com
DTSTART;TZID=Europe/Zagreb:20260614T200000
DTEND;TZID=Europe/Zagreb:20260614T230000
DTSTAMP:20251119T175355Z
URL:https://photorokaj.com/events/the-offspring/
SUMMARY:THE OFFSPRING
DESCRIPTION:&nbsp\;\nhttps://photorokaj.com/the-offspring-jedan-od-najvecih
 -punk-rock-bendova-stize-u-zagreb\n&nbsp\;\nhttps://photorokaj.com/koncert
 -grupe-the-offspring-zbog-ogromnog-interesa-seli-se-na-zagrebacki-velesaja
 m/\n&nbsp\;\nThe Offspring\, kalifornijske punk rock legende i jedan od na
 jvećih bendova žanra uopće\, dolaze na stadion Šalata u lipnju iduće 
 godine\, predugih 17 godina nakon posljednjeg koncerta u Tvornici kulture 
 u rujnu 2009. S 40 godina karijere iza sebe i gotovo 45 milijuna prodanih 
 albuma\, The Offspring su jedno od vodećih imena alternativne rock glazbe
  posljednjih nekoliko desetljeća.\n\n\n\nUlaznice za koncert na Šalati u
  prodaju idu u petak 7. studenog  u 10:00h na CoreEventu. Hard copy fizi
 čke dostupne će biti u Dirty Old Shopu (Zagreb)\, Rockmarku (Zagreb) i 
 Dallas Music Shopu (Rijeka). Early bird cijena: 52 eur.\n\n\n\n\nhttps://w
 ww.youtube.com/watch?v=13k0DpUyfMc\n
ATTACH;FMTTYPE=image/jpeg:https://photorokaj.com/wp-content/uploads/2025/1
 1/TOS-BW-Publicity-still.jpg-pdf.jpg
LOCATION:Velesajam Paviljon 9\, Zagrebački Velesajam - paviljon 9\, Zagreb
 \, Hrvatska
X-APPLE-STRUCTURED-LOCATION;VALUE=URI;X-ADDRESS=Zagrebački Velesajam - pav
 iljon 9\, Zagreb\, Hrvatska;X-APPLE-RADIUS=100;X-TITLE=Velesajam Paviljon 
 9:geo:0,0
END:VEVENT
BEGIN:VTIMEZONE
TZID:Europe/Zagreb
X-LIC-LOCATION:Europe/Zagreb
BEGIN:DAYLIGHT
DTSTART:20260329T030000
TZOFFSETFROM:+0100
TZOFFSETTO:+0200
TZNAME:CEST
END:DAYLIGHT
END:VTIMEZONE
END:VCALENDAR