BEGIN:VCALENDAR
VERSION:2.0
PRODID:-//wp-events-plugin.com//7.2.3.1//EN
BEGIN:VEVENT
UID:1295@photorokaj.com
DTSTART;TZID=Europe/Zagreb:20260722T200000
DTEND;TZID=Europe/Zagreb:20260722T231500
DTSTAMP:20260226T072925Z
URL:https://photorokaj.com/events/thievery-corporation-dolaze-u-sibenik-u-
 sklopu-velike-turneje-za-30-godina-benda/
SUMMARY:Thievery Corporation dolaze u Šibenik u sklopu velike turneje za 3
 0 godina benda!
DESCRIPTION:Tvrđava sv. Mihovila\, Šibenik // 22. srpnja 2026.\n\nZagreb\
 , 25. veljače 2026. – Thievery Corporation\, jedni od najpoznatijih pro
 ducenata chill out\, lounge i globalnih zvukova\, dolaze na šibensku tvr
 đavu sv. Mihovila 22. srpnja 2026.\n\n&nbsp\;\n\nBend je stvorio ogromnu 
 bazu fanova u Hrvatskoj\, a posljednja dva koncerta održana 2024. godine 
 na zagrebačkom stadionu Šalata i Malom rimskom kazalištu u Puli rasprod
 ana su mjesecima unaprijed. Povratak u Šibenik na tvrđavu sv. Mihovila d
 ogađa se nakon dugih 12 godina\, a ovoga puta Thievery Corporation dolaze
  u sklopu velike obljetničke turneje kojom slave 30 godina karijere.\n\nT
 hievery Corporation - "The Richest Man in Babylon"\n\n&nbsp\;\n\nKao jedna
  od najunikatnijih pojava u svijetu elektroničke glazbe Thievery Corporat
 ion kroz svoj rad daje uvid u međunarodne glazbene stilove. Ono što je p
 očelo 90-ih u Washingtonu\, preraslo je u pravo svjetsko glazbeno iskustv
 o i potpuno novi smjer elektroničke glazbe koji režiraju Rob Garza i Eri
 c Hilton. Kroz tri desetljeća spajaju globalne zvukove\, od brazilskih\, 
 jamajkanskih\, preko europskih i indijskih\, dodajući im beatove i vokale
 . Njihov prepoznatljivi zvučni potpis\, primjerice u domeni duba\, bossa 
 nove ili techna\, donio im je horde obožavatelja po svijetu\, a sve su po
 vezali kroz apstraktnu i instrumentalnu plesnu glazbu zvukom između trip-
 hopa i acid jazza.\n\nThievery Corporation - “Lebanese Blonde”\n\n&nbs
 p\;\n\nEpohalni prvijenac iz 1996. “Sounds From The Thievery Hi-Fi” pr
 edstavio ih je kao pionire koji elektroničku glazbu miješaju s brojnim v
 okalima. Uslijedili su i albumi poput “The Mirror Conspiracy”\, na koj
 em je i megapopularni singl “Lebanese Blonde”\, “The Richest Man in 
 Babylon” orijentiran na politička zbivanja i humanost\, “Radio Retali
 ation” nominiran za Grammyja ili “Treasures”. Ostajući vjerni vlast
 itoj kreativnoj viziji i izdavačkoj kući\, Thievery Corporation stvorio 
 je jedan od najoriginalnijih izričaja koristeći globalne glazbene stilov
 e kojim ujedinjuju publiku širom svijeta.\n\nThievery Corporation - "Shad
 ows of Ourselves"\n\nKoncerti Thievery Corporationa uvijek su performansi 
 koji okupljaju sjajne članove benda\, te raspon vokalista iz različitih 
 kultura čime je svaki nastup jedinstveno i multikulturalno iskustvo. Bezv
 remenski glazbeni katalog prilagođavaju novim utjecajima i suradnicima\, 
 surađujući s izvođačima kao što su David Byrne\, Perry Farrel\, The F
 laming Lips ili Bebel Gilberto\, a iznova oduševljavaju s glazbom koja dv
 orane i plesne podije pretvaraju u putovanje kojem odaju počast raznim ku
 lturama.\n\nThievery Corporation stvorio jedan od najoriginalnijih izriča
 ja koristeći globalne glazbene stilove. Njihovu mješavinu raznih osobnos
 ti\, kultura\, zvukova i utjecaja publika će doživjeti na open air nastu
 pu i ljetnom spektaklu na jednoj od najljepših pozornica na otvorenom u o
 vom dijelu Europe.\n\n&nbsp\;\n\nUlaznice kreću u prodaju u petak\, 27. v
 eljače\, u sustavu Eventim po cijeni od 55 eura.\n\nČlanovi Kluba prijat
 elja šibenskih tvrđava ostvaruju popust od 15% na ulaznice kupljene u su
 stavu Eventim i na blagajni Kuće umjetnosti Arsen.\n\n&nbsp\;\n\n&nbsp\;\
 n\n \n\n 
ATTACH;FMTTYPE=image/jpeg:https://photorokaj.com/wp-content/uploads/2026/0
 2/Thievery-Corporation-Press-Shot-scaled.jpg
LOCATION:Tvrđava sv. Mihovila\, Zagrađe 21\, Šibenik\, Hrvatska\, 22000\
 , Hrvatska
X-APPLE-STRUCTURED-LOCATION;VALUE=URI;X-ADDRESS=Zagrađe 21\, Šibenik\, Hr
 vatska\, 22000\, Hrvatska;X-APPLE-RADIUS=100;X-TITLE=Tvrđava sv. Mihovila
 :geo:0,0
END:VEVENT
BEGIN:VTIMEZONE
TZID:Europe/Zagreb
X-LIC-LOCATION:Europe/Zagreb
BEGIN:DAYLIGHT
DTSTART:20260329T030000
TZOFFSETFROM:+0100
TZOFFSETTO:+0200
TZNAME:CEST
END:DAYLIGHT
END:VTIMEZONE
END:VCALENDAR