BEGIN:VCALENDAR
VERSION:2.0
PRODID:-//wp-events-plugin.com//7.2.3.1//EN
BEGIN:VEVENT
UID:1356@photorokaj.com
DTSTART;TZID=Europe/Zagreb:20261105T200000
DTEND;TZID=Europe/Zagreb:20261105T230000
DTSTAMP:20260403T071254Z
URL:https://photorokaj.com/events/tommy-emmanuel-najesen-nastupa-u-kinu-sc
 /
SUMMARY:Tommy Emmanuel najesen nastupa u Kinu SC
DESCRIPTION:\nJedan od najvećih živućih virtuoza akustične gitare\, To
 mmy Emmanuel vraća se pred Zagrebačku publiku. U sklopu svoje regionalne
  turneje\, ovaj svjetski priznati umjetnik nastupit će 5. studenoga u Kin
 u SC.\n\n\nTommy Emmanuel slovi za jednog od najboljih akustičnih gitaris
 ta na svijetu i jednog od najvećih instrumentalista današnjice. Njegov p
 repoznatljivi fingerstyle stil omogućuje mu da istovremeno svira melodiju
 \, bas i ritam\, stvarajući dojam kao da na pozornici nastupa čitav bend
 . Upravo ta sposobnost\, uz nevjerojatnu tehničku preciznost i emociju\, 
 učinila ga je globalnom ikonom.\n\nPoseban pečat njegovoj karijeri dao j
 e legendarni Chet Atkins\, koji mu je dodijelio prestižnu titulu CGP (Ce
 rtified Guitar Player) – priznanje rezervirano za izuzetno mali broj git
 arista u svijetu.\n\nTijekom karijere\, Emmanuel je osvojio i Grammy Awar
 d te surađivao s velikanima poput Erica Claptona\, Steviea Wondera\, 
 Marka Knopflera i Georgea Harrisona. Njegova glazba prelazi granice žan
 rova – od countryja i jazza do rocka i popa – ali uvijek ostaje duboko
  osobna i tehnički besprijekorna.Dolazak ovakvog umjetnika u Osijek preds
 tavlja jedan od najznačajnijih koncertnih događaja godine i rijetku pril
 iku da domaća publika uživo svjedoči vrhunskoj svjetskoj glazbenoj umje
 tnosti.Ulaznice za koncert Tommy Emmanuel za koncert u prodaji su putem s
 ustava Eventim.hr.\n\n\nPhoto: Luciano Viti \n
ATTACH;FMTTYPE=image/jpeg:https://photorokaj.com/wp-content/uploads/2026/0
 4/Photo-Credit-Luciano-Viti.-2.png
LOCATION:Kino Sc\, Savska cesta 25\, Zagreb\, Hrvatska\, 10000\, Hrvatska
X-APPLE-STRUCTURED-LOCATION;VALUE=URI;X-ADDRESS=Savska cesta 25\, Zagreb\, 
 Hrvatska\, 10000\, Hrvatska;X-APPLE-RADIUS=100;X-TITLE=Kino Sc:geo:0,0
END:VEVENT
BEGIN:VTIMEZONE
TZID:Europe/Zagreb
X-LIC-LOCATION:Europe/Zagreb
BEGIN:STANDARD
DTSTART:20261025T020000
TZOFFSETFROM:+0200
TZOFFSETTO:+0100
TZNAME:CET
END:STANDARD
END:VTIMEZONE
END:VCALENDAR