BEGIN:VCALENDAR
VERSION:2.0
PRODID:-//wp-events-plugin.com//7.2.3.1//EN
BEGIN:VEVENT
UID:1090@photorokaj.com
DTSTART;TZID=Europe/Zagreb:20260615T200000
DTEND;TZID=Europe/Zagreb:20260615T230000
DTSTAMP:20251112T173033Z
URL:https://photorokaj.com/events/trash-metal-legende-anthrax-vracaju-se-u
 -zagreb/
SUMMARY:Trash metal legende Anthrax vraćaju se u Zagreb
DESCRIPTION:\nKlub Boogaloo // Ponedjeljak\, 15. lipnja 2026.\n\n\n\nZagreb
 \, 7. studenog 2025. – Grupa Anthrax\, legende trash metala i dio velike
  četvorke tog žanra\, stižu u zagrebački Boogaloo 15. lipnja 2026.\n\n
 \n\nAnthrax – „Got The Time“\n\n\n\n\nhttps://www.youtube.com/watch?
 v=be7iNHw8QoQ&amp\;list=RDbe7iNHw8QoQ&amp\;start_radio=1\n\n\n\n\nKoncert 
 u Boogaloou bit će prvi susret s ovdašnjom publikom nakon jednog desetlj
 eća. Zadnji put bend je svirao na zagrebačkom Velesajmu u sjajnom double
  billu sa Slayerom.\n\n\n\nGrupa Anthrax\, američki thrash metal divovi\,
  osnovana je 1981. godine u New Yorku. Smatraju se članom velike četvork
 e žanra\, zajedno s Metallicom\, Megadethom i Slayerom. Karakteristični 
 po spoju heavy metala i hardcora Anthrax su najjači pečat ostavili album
 ima objavljenim od sredine 80-tih do početka 90-tih među kojima su bili 
 klasici poput „Spreading the Disease“\, „Among the Living“\, „S
 tate Of Euphoria“ i „Persistence of Time“. Do danas grupa ih je ob
 javila ukupno 14 u impresivnih 45 godina djelovanja. U povijesti glazbe os
 tat će upamćeni i kao jedan od prvih bendova koji je spajao metal i hip 
 hop i to u pjesmama „I'm The Man“ te kolaboracijom s još jednim divov
 ima\, grupom Public Enemy\, u obradi „Bring Tha Noize“.\n\n\n\nAnthrax
  &amp\; Public Enemy – „Bring Tha Noize“\n\n\n\n\nhttps://www.youtub
 e.com/watch?v=FQ3WZaKjHNQ&amp\;list=RDFQ3WZaKjHNQ&amp\;start_radio=1\n\n\n
 \n\nBend i dalje predvodi neuništivi gitarist Scott Ian\, jedan od osniva
 ča grupe\, a uz njega postavu čine dugogodišnji basist Frank Bello (nek
 adašnji član Helmeta)\, bubnjar Charlie Benante (jedan od najutjecajniji
 h metal bubnjara posljednjih desetljeća)\, gitarist Jonathan Donais te ve
 liki Joey Belladona kao vokal.\n\n\n\nUlaznice za Anthrax u Boogaloou po p
 rvoj cijeni od 30 eura u prodaju kreću u ponedjeljak 10. studenog u susta
 vu Core Event te u Dirty Old Shopu (Zagreb)\, Rockmarku (Zagreb) i Dallas 
 Music Shopu (Rijeka).\n\n\n\n\nLEFT TO RIGHT: Scott Ian\, Joey Belladonna\
 , Charlie Benante\, Jonathan Donais\, Frank Bello\n
ATTACH;FMTTYPE=image/jpeg:https://photorokaj.com/wp-content/uploads/2025/1
 1/Anthrax-On-Subway-Train-0T5A6223_hi-scaled.jpg
LOCATION:Boogaloo\, Ulica grada Vukovara 68\, Zagreb\, Hrvatska\, 10000\, H
 rvatska
X-APPLE-STRUCTURED-LOCATION;VALUE=URI;X-ADDRESS=Ulica grada Vukovara 68\, Z
 agreb\, Hrvatska\, 10000\, Hrvatska;X-APPLE-RADIUS=100;X-TITLE=Boogaloo:ge
 o:0,0
END:VEVENT
BEGIN:VTIMEZONE
TZID:Europe/Zagreb
X-LIC-LOCATION:Europe/Zagreb
BEGIN:DAYLIGHT
DTSTART:20260329T030000
TZOFFSETFROM:+0100
TZOFFSETTO:+0200
TZNAME:CEST
END:DAYLIGHT
END:VTIMEZONE
END:VCALENDAR