BEGIN:VCALENDAR
VERSION:2.0
PRODID:-//wp-events-plugin.com//7.2.3.1//EN
BEGIN:VEVENT
UID:1246@photorokaj.com
DTSTART;TZID=Europe/Zagreb:20260613T200000
DTEND;TZID=Europe/Zagreb:20260613T230000
DTSTAMP:20260129T170519Z
URL:https://photorokaj.com/events/tricky-donosi-presjek-karijere-u-boogalo
 o/
SUMMARY:Tricky donosi presjek karijere u Boogaloo
DESCRIPTION:\n\nZagreb\, klub Boogaloo // subota\, 13. lipnja 2026.\n\n\n\n
 \n\nZagreb\, 28. siječnja 2025. – Začetnik trip-hopa\, kultni britansk
 i glazbenik Tricky\, vraća se u Hrvatsku\, a u zagrebačkom klubu Boogalo
 o nastupit će u 13. lipnja 2026.\n\n\n\n\n\nJedan od najinovativnijih i n
 ajutjecajnijih glazbenika posljednjih nekoliko desetljeća na novoj turnej
 i će proći gotovo cijelu Europu. Kao umjetnik koji je redovito rasprodav
 ao koncerte u Hrvatskoj\, Tricky ovoga puta u Boogaloo donosi novi koncept
  svog live showa. Uz presjek pjesama iz cijele karijere predstaviti će sv
 oj sirovi\, intenzivan i hipnotički nastup i pokazati zašto je jedinstve
 na figura u modernoj glazbi.\n\n\n\n\n\nTricky - “Hell Is Around The Cor
 ner”\n\n\n\n\n\nhttps://www.youtube.com/watch?v=E3R_3h6zQEs\n\n\n\n\nOno
  što je počelo na underground sceni Bristola 90-ih godina\, kada je igra
 o ključnu ulogu u ranim radovima Massive Attacka\, preraslo je u jedinstv
 eni samostalni izričaj s prepoznatljivom mračnom produkcijom\, intimnim 
 vokalima i eksperimentiranje sa žanrovima.\n\n\n\n\n\nS čak 20-ak raznih
  izdanja ekscentričan umjetnik Adrian Thaws\, poznatiji kao Tricky\, uz s
 va lutanja\, uspone i padove uspio je ostati jedan od najcjenjenijih i naj
 inovativnijih glazbenika današnjice. Bez kompromisa i neustrašiv u svojo
 j glazbenoj viziji\, Tricky konstantno na svoj način redefinira modernu g
 lazbu.\n\n\n\n\n\nTricky – “Black Steel”\n\n\n\n\n\nhttps://www.yout
 ube.com/watch?v=9ZJTM03UByU\n\n\n\n\nNa globalnoj glazbenoj sceni Tricky s
 e pojavio 1995. debijem “Maxinquaye”. Nakon godina skupljanja staža k
 ao suradnik Massive Attacka\, dio The Wild Bunch ekipe i bristolske scene\
 , ovo izdanje od njega je napravilo svjetsku zvijezdu\, a trip-hop učinil
 a uzbudljivim novim zvukom na sceni. Trickyjeva glazba bila je obilježena
  glavnim ženskim vokalima\, a kao suradnice pojavljivale su se Martina To
 pley Bird\, Björk\, Neneh Cherry\, PJ Harvey\, Cindy Lauper\, Costanza Fr
 ancavilla\, Nneka ili Oh Land. I lista muških glazbenika koji su prošli 
 kroz Trickyjeve pjesme je impozantna\, od DJ Muggsa iz Cypress Hilla\, čl
 anova RHCP-a do Bobbyja Gillespieja iz Primal Screama.\n\n\n\n\n\nNajnovij
 a suradnja s pjevačicom Martom Zlakowskom\, koja će mu se pridružiti i 
 na koncertu kao dugogodišnja suradnica\, uklopljena je u album “Out The
  Way”. Slojevitost i atmosferičnost albuma još jednom pokazuje da Tric
 ky i kao producent konstantno razvija svoj zvuk i glazbeni smjer.\n\n\n\n\
 n\nMarta - “Out The Way” (feat. Tricky)\n\n\n\n\n\nhttps://www.youtube
 .com/watch?v=yIB5EsC1wGg\n\n\n\n\nUlaznice za zagrebački koncert u prodaj
 u kreću u četvrtak\, 29. siječnja\, od 10:00 sati\, a bit će dostupne 
 u sustavu CoreEvent\, kao i Rockmarku i Dirty Old Shopu. Cijena ulaznica j
 e 26 eura do 15. ožujka\, a dan nakon za ulaznicu će trebati izdvojiti 3
 0 eura.
ATTACH;FMTTYPE=image/jpeg:https://photorokaj.com/wp-content/uploads/2026/0
 1/oR-h-ik.jpeg
LOCATION:Boogaloo\, Ulica grada Vukovara 68\, Zagreb\, Hrvatska\, 10000\, H
 rvatska
X-APPLE-STRUCTURED-LOCATION;VALUE=URI;X-ADDRESS=Ulica grada Vukovara 68\, Z
 agreb\, Hrvatska\, 10000\, Hrvatska;X-APPLE-RADIUS=100;X-TITLE=Boogaloo:ge
 o:0,0
END:VEVENT
BEGIN:VTIMEZONE
TZID:Europe/Zagreb
X-LIC-LOCATION:Europe/Zagreb
BEGIN:DAYLIGHT
DTSTART:20260329T030000
TZOFFSETFROM:+0100
TZOFFSETTO:+0200
TZNAME:CEST
END:DAYLIGHT
END:VTIMEZONE
END:VCALENDAR