BEGIN:VCALENDAR
VERSION:2.0
PRODID:-//wp-events-plugin.com//7.2.3.1//EN
BEGIN:VEVENT
UID:1141@photorokaj.com
DTSTART;TZID=Europe/Zagreb:20260515T200000
DTEND;TZID=Europe/Zagreb:20260516T234500
DTSTAMP:20251208T173141Z
URL:https://photorokaj.com/events/valhalla-festival-u-klubu-mocvara-u-zagr
 ebu/
SUMMARY:Valhalla festival u klubu Močvara u Zagrebu
DESCRIPTION:\nValhalla festival u klubu Močvara u Zagrebu 15.5. i 16.5.202
 6.\n\n\n\nEarly bird festivalska ulaznica: 40€!\n\n\n\nOnline ulaznice: 
 Entrio &gt\; https://www.entrio.hr/event/valhalla-festival-28717\n\n\n\nF
 izičke ulaznice: Dirty Old Shop\, Tratinska 34\, Zagreb\n\n\n\nPetak 15.5
 . ASPHYX Kamenolom Skyeye Doom Temple\n\n\n\nSubota 16.5. THE STONE KRYN I
 nfest Mortal Strike Greynoise\n\n\n\nASPHYX (death/doom metal\, Nizozemska
 ) facebook.com/officialasphyx instagram.com/asphyxofficial tinyurl.com/spo
 tifyasphyx Legende death/doom metala Asphyx po prvi puta dolaze u Hrvatsku
 ! Pod vodstvom neuništivog Martina Van Drunena\, njihova glazba je sinoni
 m za brutalnost\, tminu i beskompromisni pristup. Asphyx savršeno spaja s
 irovi death metal s teškim\, sporim i mračnim doom rifovima\, pritom stv
 arajući zvuk koji je postao standard žanra. S deset studijskih albuma\, 
 desetljećima provedenima na sceni i nebrojeno odvaljenih koncerata širom
  svijeta\, Asphyx i dalje gazi kao da je tek krenuo. Ne propusti ih kao he
 adlinere Valhalla festivala i očekuj čistu soničnu devastaciju!\n\n\n\n
 THE STONE (black metal\, Srbija) facebook.com/thestonehorde instagram.com/
 the.stone.horde tinyurl.com/spotifythestone Jedan od najutjecajnijih i naj
 dugovječnijih regionalnih black metal bendova The Stone djeluje još od 1
 996. godine u Beogradu. Njihova lirika prožeta je suštinskim nihilizmom\
 , dok se monumentalna tama i sirova agresija stapaju u prepoznatljiv\, bes
 kompromisan zvuk. Svaki album u diskografiji potvrđuje njihovu poziciju u
  samom vrhu žanra\, a posebno posljednje izdanje Kletva iz 2025. godine\,
  koje je dodatno učvrstilo njihov kultni status. Nakon četiri godine i j
 oš uvijek svježeg sjećanja na fenomenalan koncert u Zagrebu\, The Stone
  se vraća u grad – ovoga puta kao headliner Valhalla festivala!\n\n\n\n
 KRYN (modern metal\, Rijeka) facebook.com/krynofficial instagram.com/krynb
 and tinyurl.com/spotifykryn U svom izričaju Kryn savršeno spaja teške\,
  pulsirajuće rifove\, mračne atmosferske melodije i snažnu vokalnu domi
 naciju s dozom kontrolirane agresije koja ovaj bend izdvaja unutar žanra.
  Kryn godinama gradi prepoznatljivo mjesto na metal sceni zahvaljujući ek
 splozivnim i energičnim nastupima koji nitko ne zaboravlja. Najnoviji alb
 um Risset (2024.) potvrđuje kreativnu evoluciju benda - razarajući rifov
 i\, proganjajuće melodije\, brutalno iskreni tekstovi i karizmatičan vok
 al spajaju se u jedinstvenu silu. Kryn kao headliner napokon na Valhalla f
 estivalu!\n\n\n\nINFEST (death/thrash metal\, Srbija) www.facebook.com/inf
 est.serbia www.instagram.com/infest_serbia tinyurl.com/spotifyinfest Infes
 t je metal mašina osnovana 2002. godine\, poznata po neumoljivoj agresiji
  i beskompromisnom death/thrash zvuku. S impresivnih sedam albuma iza sebe
  i aktualnim izdanjem Ambassadors of Aggression (2025.)\, Infest nastavlja
  širiti svoje brutalno evanđelje. Njihovi nastupi su ratna zona: old-sch
 ool brzina\, oštri rifovi i nepokolebljiv stav koji s bine briše sve pre
 d sobom. Nakon fenomenalnog nastupa 2019.\, vraćaju se na Valhalla festiv
 al jači nego ikada!\n\n\n\nKAMENOLOM (heavy metal\, Srbija) facebook.com/
 kamenolombend instagram.com/kamen_o_lom tinyurl.com/spotifykamenolom Beogr
 adski Kamenolom\, osnovan 2018.\, u hrvatsku prijestolnicu donosi svježu 
 dozu slavenske mitologije. Njihov debitantski album iz 2024. godine otvori
 o je vrata agresivnim pričama o bitkama\, ratnoj povijesti\, osobnim borb
 ama i\, naravno\, obaveznim opijanjima u Valhalli. Kamenolom ove godine na
 javljuje novi album i donosi svoj zvuk ravno na Valhalla festival!\n\n\n\n
 SKYEYE (heavy metal\, Slovenija) facebook.com/SkyEyeBand instagram.com/sky
 eyeband tinyurl.com/spotifyskyeye Neki sviraju heavy metal\, SkyEye jesu h
 eavy metal. Od 2014. slovenski jahači čelika ispisuju stihove o fantasy 
 svijetu\, povijesnim bitkama i SF vizijama\, noseći zastavu tradicionalno
 g metala visoko i ponosno. Njihov album New Horizons (2024.) oluja je spee
 d/heavy metala\, spremna pokoriti tron. Pripremite oklop\, jer SkyEye sti
 že na Valhalla festival!\n\n\n\nMORTAL STRIKE (thrash metal\, Austrija) f
 acebook.com/MortalStrikeOfficial instagram.com/mortalstrikeofficial tinyur
 l.com/spotifymortalstrike Glasan\, agresivan i neumoljiv\, Mortal Strike o
 snovan je 2009. godine u Beču. Pod utjecajem Sodoma\, Kreatora i Stormwar
 riora\, austrijski divljaci svoje su početke obilježili koncertom koji j
 e policija morala prekinuti zbog preglasnog zvuka. Prvijenac For The Loud 
 And The Aggressive (2014.) samo je zacementirao njihovu reputaciju. Nakon 
 furioznog nastupa 2016.\, Mortal Strike se vraća na Valhalla festival jo
 š žešći i nabrijaniji!\n\n\n\nDOOM TEMPLE (sludge/doom metal\, Zagreb)
  facebook.com/DoomTempleZG instagram.com/doomtemple.band tinyurl.com/spoti
 fydoomtemple Doom Temple okupio se 2023. godine i donosi monumentalnu dozu
  sludge/doom težine\, snažno ukorijenjenu u naslijeđu Black Sabbatha. T
 ekstovi benda hrabro seciraju temu ovisnosti i zloupotrebe droga\, pretvar
 ajući osobne demone u himne otpora i suočavanja. Uz snažnu podršku pub
 like i kritike širom regije\, Doom Temple dolazi nam predstaviti svoj rit
 ual na Valhalla festival!\n\n\n\nGREYNOISE (alt/prog metal\, Zagreb) faceb
 ook.com/Greynoiseband instagram.com/greynoise_band tinyurl.com/spotifygrey
 noise Greynoise stvara mračni\, atmosferični i iznimno emotivan spoj te
 ških rifova\, kompleksnih ritmova i strastvene vokalne ekspresije. Njihov
  EP Konnekt (2024.) vodi slušatelja kroz tamnije kutke ljudskog uma\, bal
 ansirajući između introspektivne melankolije i erupcija neukrotive energ
 ije. Bend trenutno radi na novom materijalu te ga dolazi predstaviti na Va
 lhalla festival!\n\n\n\nfacebook.com/valhallafestival1 instagram.com/valha
 llafestivalcro facebook.com/mochvara instagram.com/mochvara\n
ATTACH;FMTTYPE=image/jpeg:https://photorokaj.com/wp-content/uploads/2025/1
 2/591506993_1378370543981256_2807770426254672733_n-1.jpg
LOCATION:Klub Močvara\, Trnjanska struga 34\,\, Zagreb\, Hrvatska\, 10000\
 , Hrvatska
X-APPLE-STRUCTURED-LOCATION;VALUE=URI;X-ADDRESS=Trnjanska struga 34\,\, Zag
 reb\, Hrvatska\, 10000\, Hrvatska;X-APPLE-RADIUS=100;X-TITLE=Klub Močvara
 :geo:0,0
END:VEVENT
BEGIN:VTIMEZONE
TZID:Europe/Zagreb
X-LIC-LOCATION:Europe/Zagreb
BEGIN:DAYLIGHT
DTSTART:20260329T030000
TZOFFSETFROM:+0100
TZOFFSETTO:+0200
TZNAME:CEST
END:DAYLIGHT
END:VTIMEZONE
END:VCALENDAR