BEGIN:VCALENDAR
VERSION:2.0
PRODID:-//wp-events-plugin.com//7.2.3.1//EN
BEGIN:VEVENT
UID:1291@photorokaj.com
DTSTART;TZID=Europe/Vienna:20260716T190000
DTEND;TZID=Europe/Vienna:20260716T230000
DTSTAMP:20260221T153345Z
URL:https://photorokaj.com/events/van-morrison-i-ronnie-wood-i-njegov-bend
 -dolaze-u-clam-castle-u-u-srpnju/
SUMMARY:VAN MORRISON i RONNIE WOOD i njegov bend dolaze u Clam Castle-u u s
 rpnju.
DESCRIPTION:16. srpnja 2026. u Clam Castleu nas očekuje vrhunski koncertni
  vrhunac s ekskluzivnim line-upom\, koji se u Europi može doživjeti samo
  jednom 2026. upravo u ovoj skladbi u Clam Castleu:\nVAN MORRISON und RONN
 IE WOOD i njegov bend.\nDvije glazbene legende nastupit će jedne večeri 
 ispred prekrasne otvorene pozadine Clam Castlea – to će biti jedinstven
 o i nezaboravno koncertno iskustvo.\n\nVAN MORRISON je pjevač\, tekstopi
 sac\, pjesnik\, autor i multiinstrumentalist te se smatra jednim od najva
 žnijih glazbenih stvaratelja našeg vremena. Objavio je svoj novi album "
 Somebody Tried To Sell Me A Bridge" 23. siječnja 2026.\, pružajući stra
 stveno\, nefiltrirano blues iskustvo. Kombinirajući Van Morrisonovu prepo
 znatljivu grubost i poetsku izražajnost s neupitnom emocionalnom dubinom 
 klasičnog bluesa\, album je zbirka pjesama koja je i bezvremenska i snaž
 no živa. Tijekom svoje karijere Van Morrison je osvojio nekoliko Grammyja
 \, Brit Award\, ulazak u Rock 'n' Roll Hall of Fame te brojne druge nagrad
 e\, a kraljica Elizabeta II. dodijelila mu je viteški naslov.\n\nhttps://
 www.youtube.com/watch?v=bsk841vJXwg\n\nRONNIE WOOD iz The Rolling Stonesa
  svirao je u nekim od najutjecajnijih rock bendova u povijesti i također 
 je član Rock 'n' Roll Kuće slavnih (zajedno s The Rolling Stones i Faces
 ). Istovremeno je ostvario izvanrednu karijeru kao solo umjetnik i osvojio
  tri prestižne Sony Radio Personality Awards kao rođeni pripovjedač. Go
 dine 2025. objavio je "FEARLESS: THE ANTHOLOGY 1965–2025"\, sveobuhvatnu
  kolekciju koja slavi 60 godina fantastične glazbe i ističe vrhunce njeg
 ove legendarne karijere s The Rolling Stonesima\, Facesima\, Jeff Beck Gro
 upom\, The Birdsima\, The Creationom\, Rodom Stewartom\, Ronniejem Laneom 
 i iz njegove solo karijere.\n\nhttps://www.youtube.com/watch?v=2sKZM2CK66U
 \n\nULAZNICE ZA EARLY BIRD bit će dostupna od sutra\, 20. veljače 2026. 
 od 10:00 sati na oeticket.com
ATTACH;FMTTYPE=image/jpeg:https://photorokaj.com/wp-content/uploads/2026/0
 2/1242e399-480c-46d3-f88c-8339fd5025f7.jpg
END:VEVENT
BEGIN:VTIMEZONE
TZID:Europe/Vienna
X-LIC-LOCATION:Europe/Vienna
BEGIN:DAYLIGHT
DTSTART:20260329T030000
TZOFFSETFROM:+0100
TZOFFSETTO:+0200
TZNAME:CEST
END:DAYLIGHT
END:VTIMEZONE
END:VCALENDAR